BEGIN:VCALENDAR
VERSION:2.0
PRODID:-//Tukios.com/
BEGIN:VEVENT
UID:fd6bde40-3711-4b69-b4d4-9881d9a94bff@obituaries.herrfuneral.com
DTSTAMP:20260420T225908Z
DTSTART:20260422T210000Z
DTEND:20260423T010000Z
SUMMARY:Visitation
DESCRIPTION:
URL:https://obituaries.herrfuneral.com/obituaries/linda-rodriguez
LOCATION: 50 Foundation Dr.  Glen Carbon IL 62034
GEO:38.7629874;-89.9580123
END:VEVENT
END:VCALENDAR